BEGIN:VCALENDAR
VERSION:2.0
PRODID:-//Greenmount Primary School - ECPv6.2.1//NONSGML v1.0//EN
CALSCALE:GREGORIAN
METHOD:PUBLISH
X-WR-CALNAME:Greenmount Primary School
X-ORIGINAL-URL:http://www.greenmountprimary.co.uk
X-WR-CALDESC:Events for Greenmount Primary School
REFRESH-INTERVAL;VALUE=DURATION:PT1H
X-Robots-Tag:noindex
X-PUBLISHED-TTL:PT1H
BEGIN:VTIMEZONE
TZID:Europe/London
BEGIN:DAYLIGHT
TZOFFSETFROM:+0000
TZOFFSETTO:+0100
TZNAME:BST
DTSTART:20260329T010000
END:DAYLIGHT
BEGIN:STANDARD
TZOFFSETFROM:+0100
TZOFFSETTO:+0000
TZNAME:GMT
DTSTART:20261025T010000
END:STANDARD
END:VTIMEZONE
BEGIN:VEVENT
DTSTART;VALUE=DATE:20260422
DTEND;VALUE=DATE:20260424
DTSTAMP:20260423T114944
CREATED:20260422T082534Z
LAST-MODIFIED:20260422T082534Z
UID:7523-1776816000-1776988799@www.greenmountprimary.co.uk
SUMMARY:Lion Learners Visit
DESCRIPTION:
URL:http://www.greenmountprimary.co.uk/event/lion-learners-visit-5/
CATEGORIES:Visitor in School
END:VEVENT
BEGIN:VEVENT
DTSTART;VALUE=DATE:20260423
DTEND;VALUE=DATE:20260424
DTSTAMP:20260423T114944
CREATED:20260422T082554Z
LAST-MODIFIED:20260422T082554Z
UID:7525-1776902400-1776988799@www.greenmountprimary.co.uk
SUMMARY:Nursery trip to Temple Newsam
DESCRIPTION:
URL:http://www.greenmountprimary.co.uk/event/nursery-trip-to-temple-newsam-2/
CATEGORIES:School Trips
END:VEVENT
END:VCALENDAR