BEGIN:VCALENDAR
VERSION:2.0
PRODID:-//Greenmount Primary School - ECPv6.2.1//NONSGML v1.0//EN
CALSCALE:GREGORIAN
METHOD:PUBLISH
X-WR-CALNAME:Greenmount Primary School
X-ORIGINAL-URL:http://www.greenmountprimary.co.uk
X-WR-CALDESC:Events for Greenmount Primary School
REFRESH-INTERVAL;VALUE=DURATION:PT1H
X-Robots-Tag:noindex
X-PUBLISHED-TTL:PT1H
BEGIN:VTIMEZONE
TZID:Europe/London
BEGIN:DAYLIGHT
TZOFFSETFROM:+0000
TZOFFSETTO:+0100
TZNAME:BST
DTSTART:20240331T010000
END:DAYLIGHT
BEGIN:STANDARD
TZOFFSETFROM:+0100
TZOFFSETTO:+0000
TZNAME:GMT
DTSTART:20241027T010000
END:STANDARD
BEGIN:DAYLIGHT
TZOFFSETFROM:+0000
TZOFFSETTO:+0100
TZNAME:BST
DTSTART:20250330T010000
END:DAYLIGHT
BEGIN:STANDARD
TZOFFSETFROM:+0100
TZOFFSETTO:+0000
TZNAME:GMT
DTSTART:20251026T010000
END:STANDARD
BEGIN:DAYLIGHT
TZOFFSETFROM:+0000
TZOFFSETTO:+0100
TZNAME:BST
DTSTART:20260329T010000
END:DAYLIGHT
BEGIN:STANDARD
TZOFFSETFROM:+0100
TZOFFSETTO:+0000
TZNAME:GMT
DTSTART:20261025T010000
END:STANDARD
END:VTIMEZONE
BEGIN:VEVENT
DTSTART;VALUE=DATE:20260202
DTEND;VALUE=DATE:20260207
DTSTAMP:20260419T164711
CREATED:20260114T100827Z
LAST-MODIFIED:20260114T100827Z
UID:7410-1769990400-1770422399@www.greenmountprimary.co.uk
SUMMARY:6 Twyford IntoUni week
DESCRIPTION:
URL:http://www.greenmountprimary.co.uk/event/6-twyford-intouni-week/
CATEGORIES:School Trips
END:VEVENT
BEGIN:VEVENT
DTSTART;VALUE=DATE:20260129
DTEND;VALUE=DATE:20260130
DTSTAMP:20260419T164711
CREATED:20260114T100716Z
LAST-MODIFIED:20260114T100716Z
UID:7406-1769644800-1769731199@www.greenmountprimary.co.uk
SUMMARY:Y1 Abbey House Museum Trip
DESCRIPTION:
URL:http://www.greenmountprimary.co.uk/event/y1-abbey-house-museum-trip/
CATEGORIES:School Trips
END:VEVENT
BEGIN:VEVENT
DTSTART;TZID=Europe/London:20260122T093000
DTEND;TZID=Europe/London:20260122T123000
DTSTAMP:20260419T164711
CREATED:20260114T100655Z
LAST-MODIFIED:20260114T100655Z
UID:7404-1769074200-1769085000@www.greenmountprimary.co.uk
SUMMARY:Y5 Bowling Trip
DESCRIPTION:
URL:http://www.greenmountprimary.co.uk/event/y5-bowling-trip/
CATEGORIES:School Trips
END:VEVENT
BEGIN:VEVENT
DTSTART;VALUE=DATE:20260121
DTEND;VALUE=DATE:20260124
DTSTAMP:20260419T164711
CREATED:20251208T103704Z
LAST-MODIFIED:20251208T103704Z
UID:7373-1768953600-1769212799@www.greenmountprimary.co.uk
SUMMARY:Y5 Lineham Farm Residential
DESCRIPTION:
URL:http://www.greenmountprimary.co.uk/event/y5-lineham-farm-residential-2/
CATEGORIES:School Trips
END:VEVENT
BEGIN:VEVENT
DTSTART;VALUE=DATE:20260119
DTEND;VALUE=DATE:20260124
DTSTAMP:20260419T164711
CREATED:20260114T100749Z
LAST-MODIFIED:20260114T100749Z
UID:7408-1768780800-1769212799@www.greenmountprimary.co.uk
SUMMARY:6 Rahman IntoUni Week
DESCRIPTION:
URL:http://www.greenmountprimary.co.uk/event/6-rahman-intouni-week/
CATEGORIES:School Trips
END:VEVENT
BEGIN:VEVENT
DTSTART;VALUE=DATE:20251215
DTEND;VALUE=DATE:20251218
DTSTAMP:20260419T164711
CREATED:20251208T103006Z
LAST-MODIFIED:20251208T103006Z
UID:7361-1765756800-1766015999@www.greenmountprimary.co.uk
SUMMARY:Year 6 Swimming Event
DESCRIPTION:
URL:http://www.greenmountprimary.co.uk/event/year-6-swimming-event-2/
CATEGORIES:School Trips
END:VEVENT
BEGIN:VEVENT
DTSTART;VALUE=DATE:20251210
DTEND;VALUE=DATE:20251211
DTSTAMP:20260419T164711
CREATED:20251208T102937Z
LAST-MODIFIED:20251208T102937Z
UID:7359-1765324800-1765411199@www.greenmountprimary.co.uk
SUMMARY:Explorers visit to Pudsey Civic Hall
DESCRIPTION:
URL:http://www.greenmountprimary.co.uk/event/explorers-visit-to-pudsey-civic-hall/
CATEGORIES:School Trips
END:VEVENT
BEGIN:VEVENT
DTSTART;VALUE=DATE:20251210
DTEND;VALUE=DATE:20251211
DTSTAMP:20260419T164711
CREATED:20251208T102442Z
LAST-MODIFIED:20251208T102442Z
UID:7357-1765324800-1765411199@www.greenmountprimary.co.uk
SUMMARY:Y2 Visit to St Lukes Church
DESCRIPTION:
URL:http://www.greenmountprimary.co.uk/event/y2-visit-to-st-lukes-church/
CATEGORIES:School Trips
END:VEVENT
BEGIN:VEVENT
DTSTART;VALUE=DATE:20251210
DTEND;VALUE=DATE:20251211
DTSTAMP:20260419T164711
CREATED:20251208T102357Z
LAST-MODIFIED:20251208T102357Z
UID:7355-1765324800-1765411199@www.greenmountprimary.co.uk
SUMMARY:Y3 Pantomime Trip
DESCRIPTION:
URL:http://www.greenmountprimary.co.uk/event/y3-pantomime-trip/
CATEGORIES:School Trips
END:VEVENT
BEGIN:VEVENT
DTSTART;VALUE=DATE:20251209
DTEND;VALUE=DATE:20251210
DTSTAMP:20260419T164711
CREATED:20251208T102316Z
LAST-MODIFIED:20251208T102316Z
UID:7353-1765238400-1765324799@www.greenmountprimary.co.uk
SUMMARY:5 Hughes Buddhist Temple Visit
DESCRIPTION:
URL:http://www.greenmountprimary.co.uk/event/5-hughes-buddhist-temple-visit/
CATEGORIES:School Trips
END:VEVENT
BEGIN:VEVENT
DTSTART;VALUE=DATE:20250919
DTEND;VALUE=DATE:20250920
DTSTAMP:20260419T164711
CREATED:20250630T081224Z
LAST-MODIFIED:20250630T081235Z
UID:7160-1758240000-1758326399@www.greenmountprimary.co.uk
SUMMARY:Year 6 Armley Trip
DESCRIPTION:
URL:http://www.greenmountprimary.co.uk/event/year-6-armley-trip/
CATEGORIES:School Trips
END:VEVENT
BEGIN:VEVENT
DTSTART;VALUE=DATE:20250711
DTEND;VALUE=DATE:20250712
DTSTAMP:20260419T164711
CREATED:20250630T074826Z
LAST-MODIFIED:20250630T074826Z
UID:7150-1752192000-1752278399@www.greenmountprimary.co.uk
SUMMARY:Reception Nell Bank Trip
DESCRIPTION:
URL:http://www.greenmountprimary.co.uk/event/reception-nell-bank-trip/
CATEGORIES:School Trips
END:VEVENT
BEGIN:VEVENT
DTSTART;VALUE=DATE:20250624
DTEND;VALUE=DATE:20250625
DTSTAMP:20260419T164711
CREATED:20250513T105610Z
LAST-MODIFIED:20250513T105610Z
UID:7080-1750723200-1750809599@www.greenmountprimary.co.uk
SUMMARY:Year 2 Filey Seaside trip.
DESCRIPTION:
URL:http://www.greenmountprimary.co.uk/event/year-2-filey-seaside-trip/
CATEGORIES:School Trips
END:VEVENT
BEGIN:VEVENT
DTSTART;VALUE=DATE:20250619
DTEND;VALUE=DATE:20250620
DTSTAMP:20260419T164711
CREATED:20250513T105423Z
LAST-MODIFIED:20250513T105423Z
UID:7076-1750291200-1750377599@www.greenmountprimary.co.uk
SUMMARY:Pen-Y-Ghent trip
DESCRIPTION:
URL:http://www.greenmountprimary.co.uk/event/pen-y-ghent-trip/
CATEGORIES:School Trips
END:VEVENT
BEGIN:VEVENT
DTSTART;VALUE=DATE:20250521
DTEND;VALUE=DATE:20250522
DTSTAMP:20260419T164712
CREATED:20250513T104013Z
LAST-MODIFIED:20250513T104013Z
UID:7070-1747785600-1747871999@www.greenmountprimary.co.uk
SUMMARY:Y6 Bowling and Pizza trip
DESCRIPTION:
URL:http://www.greenmountprimary.co.uk/event/y6-bowling-and-pizza-trip/
CATEGORIES:School Trips
END:VEVENT
BEGIN:VEVENT
DTSTART;VALUE=DATE:20250515
DTEND;VALUE=DATE:20250516
DTSTAMP:20260419T164712
CREATED:20250324T093832Z
LAST-MODIFIED:20250324T093832Z
UID:7005-1747267200-1747353599@www.greenmountprimary.co.uk
SUMMARY:Year 4 Leeds City Museum trip
DESCRIPTION:
URL:http://www.greenmountprimary.co.uk/event/year-4-leeds-city-museum-trip/
CATEGORIES:School Trips
END:VEVENT
BEGIN:VEVENT
DTSTART;VALUE=DATE:20250506
DTEND;VALUE=DATE:20250507
DTSTAMP:20260419T164712
CREATED:20250127T091606Z
LAST-MODIFIED:20250127T091606Z
UID:6862-1746489600-1746575999@www.greenmountprimary.co.uk
SUMMARY:Year 2 Lotherton Hall Trip
DESCRIPTION:
URL:http://www.greenmountprimary.co.uk/event/year-2-lotherton-hall-trip/
CATEGORIES:School Trips
END:VEVENT
BEGIN:VEVENT
DTSTART;VALUE=DATE:20250424
DTEND;VALUE=DATE:20250425
DTSTAMP:20260419T164712
CREATED:20250324T093935Z
LAST-MODIFIED:20250324T093935Z
UID:7007-1745452800-1745539199@www.greenmountprimary.co.uk
SUMMARY:Year 5 Temple Newsam trip
DESCRIPTION:
URL:http://www.greenmountprimary.co.uk/event/year-5-temple-newsam-trip/
CATEGORIES:School Trips
END:VEVENT
BEGIN:VEVENT
DTSTART;TZID=Europe/London:20250325T090000
DTEND;TZID=Europe/London:20250325T110000
DTSTAMP:20260419T164712
CREATED:20250224T135448Z
LAST-MODIFIED:20250224T135448Z
UID:6936-1742893200-1742900400@www.greenmountprimary.co.uk
SUMMARY:Y5/6 Bouldering PE Event
DESCRIPTION:
URL:http://www.greenmountprimary.co.uk/event/y5-6-bouldering-pe-event/
CATEGORIES:School Trips
END:VEVENT
BEGIN:VEVENT
DTSTART;TZID=Europe/London:20250324T090000
DTEND;TZID=Europe/London:20250324T110000
DTSTAMP:20260419T164712
CREATED:20250224T135322Z
LAST-MODIFIED:20250224T135322Z
UID:6934-1742806800-1742814000@www.greenmountprimary.co.uk
SUMMARY:Y3/4 Active Maths trip
DESCRIPTION:
URL:http://www.greenmountprimary.co.uk/event/y3-4-active-maths-trip/
CATEGORIES:School Trips
END:VEVENT
BEGIN:VEVENT
DTSTART;VALUE=DATE:20250314
DTEND;VALUE=DATE:20250315
DTSTAMP:20260419T164712
CREATED:20250224T134454Z
LAST-MODIFIED:20250224T134454Z
UID:6922-1741910400-1741996799@www.greenmountprimary.co.uk
SUMMARY:Year 5 IntoUni visit
DESCRIPTION:
URL:http://www.greenmountprimary.co.uk/event/year-5-intouni-visit/
CATEGORIES:School Trips
END:VEVENT
BEGIN:VEVENT
DTSTART;VALUE=DATE:20250313
DTEND;VALUE=DATE:20250314
DTSTAMP:20260419T164712
CREATED:20250224T134354Z
LAST-MODIFIED:20250224T134354Z
UID:6920-1741824000-1741910399@www.greenmountprimary.co.uk
SUMMARY:Nursery Trip to Temple Newsam
DESCRIPTION:
URL:http://www.greenmountprimary.co.uk/event/nursery-trip-to-temple-newsam/
CATEGORIES:School Trips
END:VEVENT
BEGIN:VEVENT
DTSTART;VALUE=DATE:20250130
DTEND;VALUE=DATE:20250131
DTSTAMP:20260419T164712
CREATED:20250113T115935Z
LAST-MODIFIED:20250113T115935Z
UID:6846-1738195200-1738281599@www.greenmountprimary.co.uk
SUMMARY:Year 1 Abbey House Museum Trip
DESCRIPTION:
URL:http://www.greenmountprimary.co.uk/event/year-1-abbey-house-museum-trip-2/
CATEGORIES:School Trips
END:VEVENT
BEGIN:VEVENT
DTSTART;VALUE=DATE:20250127
DTEND;VALUE=DATE:20250128
DTSTAMP:20260419T164712
CREATED:20250113T115637Z
LAST-MODIFIED:20250113T115637Z
UID:6842-1737936000-1738022399@www.greenmountprimary.co.uk
SUMMARY:KS2 Ice Skating
DESCRIPTION:
URL:http://www.greenmountprimary.co.uk/event/ks2-ice-skating/
CATEGORIES:School Trips
END:VEVENT
BEGIN:VEVENT
DTSTART;VALUE=DATE:20250127
DTEND;VALUE=DATE:20250128
DTSTAMP:20260419T164712
CREATED:20250113T115621Z
LAST-MODIFIED:20250113T115621Z
UID:6840-1737936000-1738022399@www.greenmountprimary.co.uk
SUMMARY:Young Voices Concert Sheffield
DESCRIPTION:
URL:http://www.greenmountprimary.co.uk/event/young-voices-concert-sheffield/
CATEGORIES:School Trips
END:VEVENT
BEGIN:VEVENT
DTSTART;VALUE=DATE:20250116
DTEND;VALUE=DATE:20250117
DTSTAMP:20260419T164712
CREATED:20250113T114456Z
LAST-MODIFIED:20250113T114456Z
UID:6833-1736985600-1737071999@www.greenmountprimary.co.uk
SUMMARY:Year 3 Theatre Trip
DESCRIPTION:
URL:http://www.greenmountprimary.co.uk/event/year-3-theatre-trip/
CATEGORIES:School Trips
END:VEVENT
BEGIN:VEVENT
DTSTART;VALUE=DATE:20250115
DTEND;VALUE=DATE:20250116
DTSTAMP:20260419T164712
CREATED:20250113T114439Z
LAST-MODIFIED:20250113T114439Z
UID:6831-1736899200-1736985599@www.greenmountprimary.co.uk
SUMMARY:Year 5/6 LS-TEN Skatepark Visit
DESCRIPTION:
URL:http://www.greenmountprimary.co.uk/event/year-5-6-ls-ten-skatepark-visit/
CATEGORIES:School Trips
END:VEVENT
BEGIN:VEVENT
DTSTART;VALUE=DATE:20240318
DTEND;VALUE=DATE:20240319
DTSTAMP:20260419T164712
CREATED:20240109T085845Z
LAST-MODIFIED:20240109T085845Z
UID:5736-1710720000-1710806399@www.greenmountprimary.co.uk
SUMMARY:Explorers at Pudsey Leisure Centre
DESCRIPTION:
URL:http://www.greenmountprimary.co.uk/event/explorers-at-pudsey-leisure-centre/
CATEGORIES:School Trips
END:VEVENT
BEGIN:VEVENT
DTSTART;TZID=Europe/London:20240226T093000
DTEND;TZID=Europe/London:20240226T133000
DTSTAMP:20260419T164712
CREATED:20240109T085305Z
LAST-MODIFIED:20240109T085305Z
UID:5728-1708939800-1708954200@www.greenmountprimary.co.uk
SUMMARY:School Council Youth Summit
DESCRIPTION:
URL:http://www.greenmountprimary.co.uk/event/school-council-youth-summit/
CATEGORIES:School Trips
END:VEVENT
BEGIN:VEVENT
DTSTART;TZID=Europe/London:20240222T123000
DTEND;TZID=Europe/London:20240222T150000
DTSTAMP:20260419T164712
CREATED:20240109T085103Z
LAST-MODIFIED:20240109T085103Z
UID:5726-1708605000-1708614000@www.greenmountprimary.co.uk
SUMMARY:Arts Council trip to Cockburn John Charles
DESCRIPTION:
URL:http://www.greenmountprimary.co.uk/event/arts-council-trip-to-cockburn-john-charles/
CATEGORIES:School Trips
END:VEVENT
END:VCALENDAR