BEGIN:VCALENDAR
VERSION:2.0
PRODID:-//Greenmount Primary School - ECPv6.2.1//NONSGML v1.0//EN
CALSCALE:GREGORIAN
METHOD:PUBLISH
X-WR-CALNAME:Greenmount Primary School
X-ORIGINAL-URL:http://www.greenmountprimary.co.uk
X-WR-CALDESC:Events for Greenmount Primary School
REFRESH-INTERVAL;VALUE=DURATION:PT1H
X-Robots-Tag:noindex
X-PUBLISHED-TTL:PT1H
BEGIN:VTIMEZONE
TZID:Europe/London
BEGIN:DAYLIGHT
TZOFFSETFROM:+0000
TZOFFSETTO:+0100
TZNAME:BST
DTSTART:20220327T010000
END:DAYLIGHT
BEGIN:STANDARD
TZOFFSETFROM:+0100
TZOFFSETTO:+0000
TZNAME:GMT
DTSTART:20221030T010000
END:STANDARD
END:VTIMEZONE
BEGIN:VEVENT
DTSTART;VALUE=DATE:20220126
DTEND;VALUE=DATE:20220127
DTSTAMP:20260419T201030
CREATED:20220125T103523Z
LAST-MODIFIED:20220125T103920Z
UID:3548-1643155200-1643241599@www.greenmountprimary.co.uk
SUMMARY:Year 2 Thackray Medical Museum trip
DESCRIPTION:
URL:http://www.greenmountprimary.co.uk/event/year-2-thackray-medical-museum-trip/
CATEGORIES:School Trips
END:VEVENT
END:VCALENDAR